BEGIN:VCALENDAR
VERSION:2.0
PRODID:-//eventon.com NONSGML v1.0//EN
BEGIN:VEVENT
UID:69e733bd294d9
DTSTAMP:20260421T082221
DTSTART:20220127T190000Z
DTEND:20220127T235000Z
TZID:UTC
LOCATION:Teplice Civic Centre Concert Hall\,  Teplice\,  Csehország Mírové nám. 2950\,  415 01 Teplice\,  Csehország
SUMMARY:North Czech Philharmonic Orchestra Teplice\,  Balázs János\,  vezényel: Charles Olivieri-Munroe
DESCRIPTION: Közreműködik: Balázs János (zongora)\,  North Czech Philharmonic Orchestra Teplice\,  vezényel: Charles Olivieri-Munroe (A Cziffra Fesztivál partnere: North Czech Philharmonic Orchestra Teplice) Jegyvásárlás hamarosan.
URL:https://archiv.cziffrafesztival.hu/events/north-czech-philharmonic-orchestra-teplice-balazs-janos-vezenyel-charles-olivieri-munroe/
END:VEVENT
END:VCALENDAR