BEGIN:VCALENDAR
VERSION:2.0
PRODID:-//eventon.com NONSGML v1.0//EN
BEGIN:VEVENT
UID:69e61c0f94f34
DTSTAMP:20260420T122903
DTSTART:20211213T190000Z
DTEND:20211213T235000Z
TZID:UTC
LOCATION:Magyar Kulturális Intézet\,  Stuttgart\,  Németország Christophstraße 7\,  70178 Stuttgart\,  Németország
SUMMARY:ZongOpera - Miklósa Erika és Balázs János
DESCRIPTION: Műsor: Liszt-\,  Bellini-\,  Donizetti-\,  Verdi-\,  Gershwin- és Lehár-dalok és -áriák\,  valamint Cziffra- és Liszt-operaátiratok Három éve lépett először együtt közönség elé Miklósa Erika és Balázs János\,  hogy megkeressék azt a közös hangot\,  amely mindkettejük zenei területének\,  az operaműfajnak és a zongorairodalomnak is sajátja. Magától értetődő módon talált egymásra e két[..]
URL:https://archiv.cziffrafesztival.hu/events/zongopera-miklosa-erika-es-balazs-janos-koncertje/
END:VEVENT
END:VCALENDAR