BEGIN:VCALENDAR
VERSION:2.0
PRODID:-//eventon.com NONSGML v1.0//EN
BEGIN:VEVENT
UID:69e5ffff16e6b
DTSTAMP:20260420T102919
DTSTART:20210417T190000Z
DTEND:20210417T235000Z
TZID:UTC
LOCATION:Pannonia Hotel\,  Sopron 9400 Sopron\,  Várkerület 75.
SUMMARY:Bonnyai Apolka és Borbély László koncertje
DESCRIPTION: Közreműködik: Bonnyai Apolka\,  Borbély László Műsor: Liszt: Genfi harangok\,  Erdőzsongás koncertetűd\,  Szerelmi álmok Schumann: g-moll szonáta Op.22 (Bonnyai Apolka) Liszt: XV. rapszódia-négykezes (Bonnyai Apolka\,  Borbély László) *** Chopin: Asz-dúr polonéz-fantázia\,  Liszt: I. Mefisztó-keringő\,  Liszt: Dante-szonáta (Borbély László) Liszt: Fest polonéz-négykezes (Bonnyai Apolka\,  Borbély László) (A Cziffra Fesztivál és a Liszt[..]
URL:https://archiv.cziffrafesztival.hu/events/bonnyai-apolka-es-borbely-laszlo-koncertje/
END:VEVENT
END:VCALENDAR