BEGIN:VCALENDAR
VERSION:2.0
PRODID:-//eventon.com NONSGML v1.0//EN
BEGIN:VEVENT
UID:69e5e69823ab8
DTSTAMP:20260420T084056
DTSTART:20210412T190000Z
DTEND:20210412T235000Z
TZID:UTC
LOCATION:Pécsi Tudományegyetem Művészeti Kar\,  ZMI Liszt Ferenc Hangversenyterem 7630 Pécs\,  Zsolnay Vilmos út 37.
SUMMARY:Mocsári Károly online zongoraestje
DESCRIPTION: Értesítjük kedves közönségünket\,  hogy a koncertet későbbre halasztjuk. Az új dőpontról hamarosan tájékoztatást adunk. &nbsp; Közreműködik: Mocsári Károly (A Cziffra Fesztivál és a Liszt Ferenc Társaság közös koncertje) &nbsp;
URL:https://archiv.cziffrafesztival.hu/events/mocsari-karoly-zongoraestje/
END:VEVENT
END:VCALENDAR