BEGIN:VCALENDAR
VERSION:2.0
PRODID:-//eventon.com NONSGML v1.0//EN
BEGIN:VEVENT
UID:69e5e699aacf3
DTSTAMP:20260420T084057
DTSTART:20210322T100000Z
DTEND:20210322T235000Z
TZID:UTC
LOCATION:MOMkult\,  Kupolaterem 1124 Budapest\,  Csörsz utca 18.
SUMMARY:A zongorista és az újságíró – Cziffra György emlékezete
DESCRIPTION: Előadók: Fazekas Barbara (zongoraművész\,  jurátus)\,   Gombos László (zenetörténész\,  tudományos munkatárs)\,  Juhász Zsuzsa (egyetemi tanársegéd\,  zenetörténész)\,  Kiss Eszter Veronika (zenetörténész)\,  Németh Kira Gabriella (zenetörténész)\,  Németh Zsombor (zenetörténész\,  fagottművész)\,  Szabó Balázs (egyetemi docens\,  zenetörténész)\,  Windhager Ákos (művelődéstörténész)\,  Zipernovszky Kornél (egyetemi szakvezető\,  jazzkritikus)\,  előad és zongorán közreműködik: Balázs János (egyetemi adjunktus\,  zongoraművész) &nbsp; Második[..]
URL:https://archiv.cziffrafesztival.hu/events/a-zongorista-es-az-ujsagiro-cziffra-gyorgy-emlekezete/
END:VEVENT
END:VCALENDAR