BEGIN:VCALENDAR
VERSION:2.0
PRODID:-//CZF 2020 - ECPv5.5.0.1//NONSGML v1.0//EN
CALSCALE:GREGORIAN
METHOD:PUBLISH
X-WR-CALNAME:CZF 2020
X-ORIGINAL-URL:https://archiv.cziffrafesztival.hu
X-WR-CALDESC:Events for CZF 2020
BEGIN:VTIMEZONE
TZID:UTC
BEGIN:STANDARD
TZOFFSETFROM:+0000
TZOFFSETTO:+0000
TZNAME:UTC
DTSTART:20160101T000000
END:STANDARD
END:VTIMEZONE
BEGIN:VEVENT
DTSTART;TZID=UTC:20160228T100000
DTEND;TZID=UTC:20160228T100000
DTSTAMP:20260421T125605
CREATED:20160228T100052Z
LAST-MODIFIED:20200325T082739Z
UID:1389-1456653600-1456653600@archiv.cziffrafesztival.hu
SUMMARY:HANGSZER BEMUTATÓ
DESCRIPTION:2016. február 28. 10:00\nMOMkult Kupola\n  \nA hangszerbemutató és hangszerválasztó ingyenesen látogatható előadás és koncert során a gyerekek megismerkedhetnek négy különböző hangszerrel\, azok hangjával\, hangzásával\, formájával. A mesés hangutazást megjelenítő különleges gyerekkoncert végén az érdeklődők kézzelfogható közelségbe kerülhetnek a hangszerekkel\, megérinthetik\, kipróbálhatják azokat. \n  \nKözreműködnek Junior Prima díjas művészek: \n\nDevich Gergely – cselló\nKállai Ernő – hegedű\nKörnyei Miklós – gitár\nRazvaljajeva Anasztázia – hárfa\n\n 
URL:https://archiv.cziffrafesztival.hu/esmeny/hangszer-bemutato/
CATEGORIES:koncert2016,program2016
ATTACH;FMTTYPE=image/jpeg:https://archiv.cziffrafesztival.hu/wp-content/uploads/2017/10/e807a66033bab2f104af6e18343386d21-500x441.jpg
END:VEVENT
END:VCALENDAR