BEGIN:VCALENDAR
VERSION:2.0
PRODID:-//CZF 2020 - ECPv5.5.0.1//NONSGML v1.0//EN
CALSCALE:GREGORIAN
METHOD:PUBLISH
X-WR-CALNAME:CZF 2020
X-ORIGINAL-URL:https://archiv.cziffrafesztival.hu
X-WR-CALDESC:Events for CZF 2020
BEGIN:VTIMEZONE
TZID:UTC
BEGIN:STANDARD
TZOFFSETFROM:+0000
TZOFFSETTO:+0000
TZNAME:UTC
DTSTART:20160101T000000
END:STANDARD
END:VTIMEZONE
BEGIN:VEVENT
DTSTART;VALUE=DATE:20160228
DTEND;VALUE=DATE:20160229
DTSTAMP:20260421T124902
CREATED:20171011T115013Z
LAST-MODIFIED:20200325T085308Z
UID:1392-1456617600-1456703999@archiv.cziffrafesztival.hu
SUMMARY:„Az én zenemanóm”
DESCRIPTION:Rajzpályázat gyerekeknek\n  \nA MOMkult a CZF Fesztivál keretén belül pályázatot hirdet óvodás és az általános iskola alsó tagozatára járó gyerekek számára. A komolyzenei fesztiválhoz kapcsolódó rajzpályázatra olyan műveket várunk\, amelyek egy képzeletbeli lényt\, a zenemanót mutatják be. \nMindenki másra gondol\, mást lát maga előtt a ZENE szó hallatára. Vajon milyen lehet  a manó\, aki a zene varázsos erejéből született? Milyen varázshatalma van\, mire képes? Képzeld el\, és a fantáziádra hagyatkozva ábrázold! \nA nyertes rajzok alapján textilművészek elkészítik\, megvarrják a zenemanót\, amit a rajzot készítő gyerek ajándékba kap. \nTíz nyertes rajzából születhet majd kézzel fogható zenemanó. \n  \nKérjük\, hogy a rajzok minimum A5-ös\, maximum A4-es méretben készüljenek el. Technikai megkötés nincs\, a rajz lehet színes vagy egyszínű\, az alkotók használhatnak zsírkrétát\, filcet vagy ceruzát. \nA műveket kérjük digitális formában a rajzprojekt[kukac]cziffrafesztival.hu e-mailcímre vagy postai úton a MOMkult címére [1124 Budapest\, Csörsz utca 18.] megküldeni. \nHatáridő | 2016. január 25. \nE-mailben a tárgyba\, postai küldemény esetén a borítékra kérjük ráírni: „Az én zenemanóm”. \n  \nKérjük hogy az e-mailben vagy a rajz hátoldalán tüntessék fel az alábbi információkat: \n\nrajz készítőjének neve\, életkora;\nóvoda/iskola neve;\ngondviselő/pedagógus neve\, elérhetősége (telefon\, e-mail).\n\nAz eredményhirdetésre 2016. február 28-án kerül sor a MOMkultban a CZF Fesztivál Hangszerbemutató koncertjéhez kapcsolódóan. \nTovábbi információ | rajzprojekt[kukac]cziffrafesztival.hu | Pollak Petra | +36 70 428 6846
URL:https://archiv.cziffrafesztival.hu/esmeny/az-en-zenemanom/
LOCATION:MOMKult Kupolaterem\, Csörsz utca 18.\, Budapest\, 1124\, Magyarország
CATEGORIES:koncert2016
ATTACH;FMTTYPE=image/jpeg:https://archiv.cziffrafesztival.hu/wp-content/uploads/2017/10/11776-colorful-keys-on-the-piano-1920x1080-music-wallpaper-1024x576.jpg
END:VEVENT
END:VCALENDAR