BEGIN:VCALENDAR
VERSION:2.0
PRODID:-//CZF 2020 - ECPv5.5.0.1//NONSGML v1.0//EN
CALSCALE:GREGORIAN
METHOD:PUBLISH
X-WR-CALNAME:CZF 2020
X-ORIGINAL-URL:https://archiv.cziffrafesztival.hu
X-WR-CALDESC:Events for CZF 2020
BEGIN:VTIMEZONE
TZID:UTC
BEGIN:STANDARD
TZOFFSETFROM:+0000
TZOFFSETTO:+0000
TZNAME:UTC
DTSTART:20180101T000000
END:STANDARD
END:VTIMEZONE
BEGIN:VEVENT
DTSTART;TZID=UTC:20180219T193000
DTEND;TZID=UTC:20180219T193000
DTSTAMP:20260419T132825
CREATED:20171103T112524Z
LAST-MODIFIED:20171105T055015Z
UID:1783-1519068600-1519068600@archiv.cziffrafesztival.hu
SUMMARY:Concert of the Cziffra Festival Chamber Orchestra
DESCRIPTION:Photos: Miha Fras\,  Balázs Böröcz  \nFeaturing:\nJános Balázs  Liszt Prize and Prima Prize-winning pianist\nDarko Brlek clarinetist\nGwendolyn Masin violonist\nCziffra Festival Chamber Orchestra \nConcertmaster:\nErnő Kállai Junior Prima-winning violonist \nHost: Ádám Bősze  \nProgramme:\nW.A. Mozart: Divertimento\, K. 136\nC.M. von Weber: Clarinet Quintet (version for string orchestra)\n–\nE. Bloch: Nigun\nM. Ravel: Tzigane\nF. Chopin: Andante spianato and grande polonaise \nTicket prices | 6000 Ft\, 5000 Ft\, 4000 Ft\nTickets are available at czf.jegy.hu\, or at the ticket offices of MOMkult and the Liszt Academy.  \nJegyvásárlás
URL:https://archiv.cziffrafesztival.hu/esmeny/a-cziffra-fesztival-kamarazenekaranak-hangversenye-en/
LOCATION:MOMKult Színházterem\, Csörsz utca 18.\, Budapest\, 1124\, Magyarország
CATEGORIES:Concerts
ATTACH;FMTTYPE=image/jpeg:https://archiv.cziffrafesztival.hu/wp-content/uploads/2017/09/czf-kamara-1.jpg
END:VEVENT
END:VCALENDAR